BEGIN:VCALENDAR
VERSION:2.0
PRODID:-//Yoga Sphere - ECPv5.3.2.1//NONSGML v1.0//EN
CALSCALE:GREGORIAN
METHOD:PUBLISH
X-WR-CALNAME:Yoga Sphere
X-ORIGINAL-URL:https://yogasphere.com.au
X-WR-CALDESC:Events for Yoga Sphere
BEGIN:VTIMEZONE
TZID:Australia/Sydney
BEGIN:STANDARD
TZOFFSETFROM:+1100
TZOFFSETTO:+1000
TZNAME:AEST
DTSTART:20210403T160000
END:STANDARD
BEGIN:DAYLIGHT
TZOFFSETFROM:+1000
TZOFFSETTO:+1100
TZNAME:AEDT
DTSTART:20211002T160000
END:DAYLIGHT
END:VTIMEZONE
BEGIN:VEVENT
DTSTART;TZID=Australia/Sydney:20210202T094500
DTEND;TZID=Australia/Sydney:20210202T110000
DTSTAMP:20210226T155740
CREATED:20210216T000505Z
LAST-MODIFIED:20210216T000607Z
UID:10959-1612259100-1612263600@yogasphere.com.au
SUMMARY:Vinyasa-Krama 9 Week ONLINE Course
DESCRIPTION:More information and bookings >
URL:https://yogasphere.com.au/class/vinyasa-krama-9-week-online-course/2021-02-02/
LOCATION:Yoga Sphere Studio\, 18 Melaleuca Dr\, One Mile\, NSW\, 2316\, Australia
CATEGORIES:Beginners/General
ORGANIZER;CN="Nikki%20Shilling":MAILTO:nikki@yogasphere.com.au
GEO:-32.7721839;152.1087196
X-APPLE-STRUCTURED-LOCATION;VALUE=URI;X-ADDRESS=Yoga Sphere Studio 18 Melaleuca Dr One Mile NSW 2316 Australia;X-APPLE-RADIUS=500;X-TITLE=18 Melaleuca Dr:geo:152.1087196,-32.7721839
END:VEVENT
BEGIN:VEVENT
DTSTART;TZID=Australia/Sydney:20210204T183000
DTEND;TZID=Australia/Sydney:20210204T194500
DTSTAMP:20210226T155740
CREATED:20210210T042511Z
LAST-MODIFIED:20210215T234649Z
UID:10150-1612463400-1612467900@yogasphere.com.au
SUMMARY:Vinyasa-Krama 9 Week Course
DESCRIPTION:More info and bookings >
URL:https://yogasphere.com.au/class/vinyasa-krama-yoga-9-wk-course-term-1/2021-02-04/
LOCATION:Yoga Sphere Studio\, 18 Melaleuca Dr\, One Mile\, NSW\, 2316\, Australia
CATEGORIES:Beginners/General,Intermediate
ORGANIZER;CN="Nikki%20Shilling":MAILTO:nikki@yogasphere.com.au
GEO:-32.7721839;152.1087196
X-APPLE-STRUCTURED-LOCATION;VALUE=URI;X-ADDRESS=Yoga Sphere Studio 18 Melaleuca Dr One Mile NSW 2316 Australia;X-APPLE-RADIUS=500;X-TITLE=18 Melaleuca Dr:geo:152.1087196,-32.7721839
END:VEVENT
BEGIN:VEVENT
DTSTART;TZID=Australia/Sydney:20210208T183000
DTEND;TZID=Australia/Sydney:20210208T194500
DTSTAMP:20210226T155740
CREATED:20210210T042511Z
LAST-MODIFIED:20210215T234649Z
UID:10890-1612809000-1612813500@yogasphere.com.au
SUMMARY:Vinyasa-Krama 9 Week Course
DESCRIPTION:More info and bookings >
URL:https://yogasphere.com.au/class/vinyasa-krama-yoga-9-wk-course-term-1/2021-02-08/
LOCATION:Yoga Sphere Studio\, 18 Melaleuca Dr\, One Mile\, NSW\, 2316\, Australia
CATEGORIES:Beginners/General,Intermediate
ORGANIZER;CN="Nikki%20Shilling":MAILTO:nikki@yogasphere.com.au
GEO:-32.7721839;152.1087196
X-APPLE-STRUCTURED-LOCATION;VALUE=URI;X-ADDRESS=Yoga Sphere Studio 18 Melaleuca Dr One Mile NSW 2316 Australia;X-APPLE-RADIUS=500;X-TITLE=18 Melaleuca Dr:geo:152.1087196,-32.7721839
END:VEVENT
BEGIN:VEVENT
DTSTART;TZID=Australia/Sydney:20210209T094500
DTEND;TZID=Australia/Sydney:20210209T110000
DTSTAMP:20210226T155740
CREATED:20210216T000505Z
LAST-MODIFIED:20210216T000607Z
UID:10963-1612863900-1612868400@yogasphere.com.au
SUMMARY:Vinyasa-Krama 9 Week ONLINE Course
DESCRIPTION:More information and bookings >
URL:https://yogasphere.com.au/class/vinyasa-krama-9-week-online-course/2021-02-09/
LOCATION:Yoga Sphere Studio\, 18 Melaleuca Dr\, One Mile\, NSW\, 2316\, Australia
CATEGORIES:Beginners/General
ORGANIZER;CN="Nikki%20Shilling":MAILTO:nikki@yogasphere.com.au
GEO:-32.7721839;152.1087196
X-APPLE-STRUCTURED-LOCATION;VALUE=URI;X-ADDRESS=Yoga Sphere Studio 18 Melaleuca Dr One Mile NSW 2316 Australia;X-APPLE-RADIUS=500;X-TITLE=18 Melaleuca Dr:geo:152.1087196,-32.7721839
END:VEVENT
BEGIN:VEVENT
DTSTART;TZID=Australia/Sydney:20210209T163000
DTEND;TZID=Australia/Sydney:20210209T174500
DTSTAMP:20210226T155740
CREATED:20210210T042511Z
LAST-MODIFIED:20210215T234649Z
UID:10931-1612888200-1612892700@yogasphere.com.au
SUMMARY:Vinyasa-Krama 9 Week Course
DESCRIPTION:More info and bookings >
URL:https://yogasphere.com.au/class/vinyasa-krama-yoga-9-wk-course-term-1/2021-02-09/
LOCATION:Yoga Sphere Studio\, 18 Melaleuca Dr\, One Mile\, NSW\, 2316\, Australia
CATEGORIES:Beginners/General,Intermediate
ORGANIZER;CN="Nikki%20Shilling":MAILTO:nikki@yogasphere.com.au
GEO:-32.7721839;152.1087196
X-APPLE-STRUCTURED-LOCATION;VALUE=URI;X-ADDRESS=Yoga Sphere Studio 18 Melaleuca Dr One Mile NSW 2316 Australia;X-APPLE-RADIUS=500;X-TITLE=18 Melaleuca Dr:geo:152.1087196,-32.7721839
END:VEVENT
BEGIN:VEVENT
DTSTART;TZID=Australia/Sydney:20210211T090000
DTEND;TZID=Australia/Sydney:20210211T101500
DTSTAMP:20210226T155740
CREATED:20210210T005954Z
LAST-MODIFIED:20210216T080712Z
UID:9915-1613034000-1613038500@yogasphere.com.au
SUMMARY:Vinyasa-Krama Yoga – Casual Class
DESCRIPTION:More info & bookings >
URL:https://yogasphere.com.au/class/vinyasa-krama-yoga-beginners-general-casual/2021-02-11/
LOCATION:Yoga Sphere Studio\, 18 Melaleuca Dr\, One Mile\, NSW\, 2316\, Australia
CATEGORIES:Beginners/General
ORGANIZER;CN="Nikki%20Shilling":MAILTO:nikki@yogasphere.com.au
GEO:-32.7721839;152.1087196
X-APPLE-STRUCTURED-LOCATION;VALUE=URI;X-ADDRESS=Yoga Sphere Studio 18 Melaleuca Dr One Mile NSW 2316 Australia;X-APPLE-RADIUS=500;X-TITLE=18 Melaleuca Dr:geo:152.1087196,-32.7721839
END:VEVENT
BEGIN:VEVENT
DTSTART;TZID=Australia/Sydney:20210211T183000
DTEND;TZID=Australia/Sydney:20210211T194500
DTSTAMP:20210226T155740
CREATED:20210210T042511Z
LAST-MODIFIED:20210215T234649Z
UID:10152-1613068200-1613072700@yogasphere.com.au
SUMMARY:Vinyasa-Krama 9 Week Course
DESCRIPTION:More info and bookings >
URL:https://yogasphere.com.au/class/vinyasa-krama-yoga-9-wk-course-term-1/2021-02-11/
LOCATION:Yoga Sphere Studio\, 18 Melaleuca Dr\, One Mile\, NSW\, 2316\, Australia
CATEGORIES:Beginners/General,Intermediate
ORGANIZER;CN="Nikki%20Shilling":MAILTO:nikki@yogasphere.com.au
GEO:-32.7721839;152.1087196
X-APPLE-STRUCTURED-LOCATION;VALUE=URI;X-ADDRESS=Yoga Sphere Studio 18 Melaleuca Dr One Mile NSW 2316 Australia;X-APPLE-RADIUS=500;X-TITLE=18 Melaleuca Dr:geo:152.1087196,-32.7721839
END:VEVENT
BEGIN:VEVENT
DTSTART;TZID=Australia/Sydney:20210215T090000
DTEND;TZID=Australia/Sydney:20210215T101500
DTSTAMP:20210226T155740
CREATED:20210210T005954Z
LAST-MODIFIED:20210216T080712Z
UID:9942-1613379600-1613384100@yogasphere.com.au
SUMMARY:Vinyasa-Krama Yoga – Casual Class
DESCRIPTION:More info & bookings >
URL:https://yogasphere.com.au/class/vinyasa-krama-yoga-beginners-general-casual/2021-02-15/
LOCATION:Yoga Sphere Studio\, 18 Melaleuca Dr\, One Mile\, NSW\, 2316\, Australia
CATEGORIES:Beginners/General
ORGANIZER;CN="Nikki%20Shilling":MAILTO:nikki@yogasphere.com.au
GEO:-32.7721839;152.1087196
X-APPLE-STRUCTURED-LOCATION;VALUE=URI;X-ADDRESS=Yoga Sphere Studio 18 Melaleuca Dr One Mile NSW 2316 Australia;X-APPLE-RADIUS=500;X-TITLE=18 Melaleuca Dr:geo:152.1087196,-32.7721839
END:VEVENT
BEGIN:VEVENT
DTSTART;TZID=Australia/Sydney:20210215T183000
DTEND;TZID=Australia/Sydney:20210215T194500
DTSTAMP:20210226T155740
CREATED:20210210T042511Z
LAST-MODIFIED:20210215T234650Z
UID:10891-1613413800-1613418300@yogasphere.com.au
SUMMARY:Vinyasa-Krama 9 Week Course
DESCRIPTION:More info and bookings >
URL:https://yogasphere.com.au/class/vinyasa-krama-yoga-9-wk-course-term-1/2021-02-15/
LOCATION:Yoga Sphere Studio\, 18 Melaleuca Dr\, One Mile\, NSW\, 2316\, Australia
CATEGORIES:Beginners/General,Intermediate
ORGANIZER;CN="Nikki%20Shilling":MAILTO:nikki@yogasphere.com.au
GEO:-32.7721839;152.1087196
X-APPLE-STRUCTURED-LOCATION;VALUE=URI;X-ADDRESS=Yoga Sphere Studio 18 Melaleuca Dr One Mile NSW 2316 Australia;X-APPLE-RADIUS=500;X-TITLE=18 Melaleuca Dr:geo:152.1087196,-32.7721839
END:VEVENT
BEGIN:VEVENT
DTSTART;TZID=Australia/Sydney:20210216T094500
DTEND;TZID=Australia/Sydney:20210216T110000
DTSTAMP:20210226T155740
CREATED:20210216T000505Z
LAST-MODIFIED:20210216T000607Z
UID:10964-1613468700-1613473200@yogasphere.com.au
SUMMARY:Vinyasa-Krama 9 Week ONLINE Course
DESCRIPTION:More information and bookings >
URL:https://yogasphere.com.au/class/vinyasa-krama-9-week-online-course/2021-02-16/
LOCATION:Yoga Sphere Studio\, 18 Melaleuca Dr\, One Mile\, NSW\, 2316\, Australia
CATEGORIES:Beginners/General
ORGANIZER;CN="Nikki%20Shilling":MAILTO:nikki@yogasphere.com.au
GEO:-32.7721839;152.1087196
X-APPLE-STRUCTURED-LOCATION;VALUE=URI;X-ADDRESS=Yoga Sphere Studio 18 Melaleuca Dr One Mile NSW 2316 Australia;X-APPLE-RADIUS=500;X-TITLE=18 Melaleuca Dr:geo:152.1087196,-32.7721839
END:VEVENT
BEGIN:VEVENT
DTSTART;TZID=Australia/Sydney:20210216T163000
DTEND;TZID=Australia/Sydney:20210216T174500
DTSTAMP:20210226T155740
CREATED:20210210T042511Z
LAST-MODIFIED:20210215T234650Z
UID:10932-1613493000-1613497500@yogasphere.com.au
SUMMARY:Vinyasa-Krama 9 Week Course
DESCRIPTION:More info and bookings >
URL:https://yogasphere.com.au/class/vinyasa-krama-yoga-9-wk-course-term-1/2021-02-16/
LOCATION:Yoga Sphere Studio\, 18 Melaleuca Dr\, One Mile\, NSW\, 2316\, Australia
CATEGORIES:Beginners/General,Intermediate
ORGANIZER;CN="Nikki%20Shilling":MAILTO:nikki@yogasphere.com.au
GEO:-32.7721839;152.1087196
X-APPLE-STRUCTURED-LOCATION;VALUE=URI;X-ADDRESS=Yoga Sphere Studio 18 Melaleuca Dr One Mile NSW 2316 Australia;X-APPLE-RADIUS=500;X-TITLE=18 Melaleuca Dr:geo:152.1087196,-32.7721839
END:VEVENT
BEGIN:VEVENT
DTSTART;TZID=Australia/Sydney:20210218T090000
DTEND;TZID=Australia/Sydney:20210218T101500
DTSTAMP:20210226T155740
CREATED:20210210T005954Z
LAST-MODIFIED:20210216T080712Z
UID:9943-1613638800-1613643300@yogasphere.com.au
SUMMARY:Vinyasa-Krama Yoga – Casual Class
DESCRIPTION:More info & bookings >
URL:https://yogasphere.com.au/class/vinyasa-krama-yoga-beginners-general-casual/2021-02-18/
LOCATION:Yoga Sphere Studio\, 18 Melaleuca Dr\, One Mile\, NSW\, 2316\, Australia
CATEGORIES:Beginners/General
ORGANIZER;CN="Nikki%20Shilling":MAILTO:nikki@yogasphere.com.au
GEO:-32.7721839;152.1087196
X-APPLE-STRUCTURED-LOCATION;VALUE=URI;X-ADDRESS=Yoga Sphere Studio 18 Melaleuca Dr One Mile NSW 2316 Australia;X-APPLE-RADIUS=500;X-TITLE=18 Melaleuca Dr:geo:152.1087196,-32.7721839
END:VEVENT
BEGIN:VEVENT
DTSTART;TZID=Australia/Sydney:20210218T183000
DTEND;TZID=Australia/Sydney:20210218T194500
DTSTAMP:20210226T155740
CREATED:20210210T042511Z
LAST-MODIFIED:20210215T234650Z
UID:10153-1613673000-1613677500@yogasphere.com.au
SUMMARY:Vinyasa-Krama 9 Week Course
DESCRIPTION:More info and bookings >
URL:https://yogasphere.com.au/class/vinyasa-krama-yoga-9-wk-course-term-1/2021-02-18/
LOCATION:Yoga Sphere Studio\, 18 Melaleuca Dr\, One Mile\, NSW\, 2316\, Australia
CATEGORIES:Beginners/General,Intermediate
ORGANIZER;CN="Nikki%20Shilling":MAILTO:nikki@yogasphere.com.au
GEO:-32.7721839;152.1087196
X-APPLE-STRUCTURED-LOCATION;VALUE=URI;X-ADDRESS=Yoga Sphere Studio 18 Melaleuca Dr One Mile NSW 2316 Australia;X-APPLE-RADIUS=500;X-TITLE=18 Melaleuca Dr:geo:152.1087196,-32.7721839
END:VEVENT
BEGIN:VEVENT
DTSTART;TZID=Australia/Sydney:20210222T090000
DTEND;TZID=Australia/Sydney:20210222T101500
DTSTAMP:20210226T155740
CREATED:20210210T005954Z
LAST-MODIFIED:20210216T080713Z
UID:9944-1613984400-1613988900@yogasphere.com.au
SUMMARY:Vinyasa-Krama Yoga – Casual Class
DESCRIPTION:More info & bookings >
URL:https://yogasphere.com.au/class/vinyasa-krama-yoga-beginners-general-casual/2021-02-22/
LOCATION:Yoga Sphere Studio\, 18 Melaleuca Dr\, One Mile\, NSW\, 2316\, Australia
CATEGORIES:Beginners/General
ORGANIZER;CN="Nikki%20Shilling":MAILTO:nikki@yogasphere.com.au
GEO:-32.7721839;152.1087196
X-APPLE-STRUCTURED-LOCATION;VALUE=URI;X-ADDRESS=Yoga Sphere Studio 18 Melaleuca Dr One Mile NSW 2316 Australia;X-APPLE-RADIUS=500;X-TITLE=18 Melaleuca Dr:geo:152.1087196,-32.7721839
END:VEVENT
BEGIN:VEVENT
DTSTART;TZID=Australia/Sydney:20210222T183000
DTEND;TZID=Australia/Sydney:20210222T194500
DTSTAMP:20210226T155740
CREATED:20210210T042511Z
LAST-MODIFIED:20210215T234650Z
UID:10892-1614018600-1614023100@yogasphere.com.au
SUMMARY:Vinyasa-Krama 9 Week Course
DESCRIPTION:More info and bookings >
URL:https://yogasphere.com.au/class/vinyasa-krama-yoga-9-wk-course-term-1/2021-02-22/
LOCATION:Yoga Sphere Studio\, 18 Melaleuca Dr\, One Mile\, NSW\, 2316\, Australia
CATEGORIES:Beginners/General,Intermediate
ORGANIZER;CN="Nikki%20Shilling":MAILTO:nikki@yogasphere.com.au
GEO:-32.7721839;152.1087196
X-APPLE-STRUCTURED-LOCATION;VALUE=URI;X-ADDRESS=Yoga Sphere Studio 18 Melaleuca Dr One Mile NSW 2316 Australia;X-APPLE-RADIUS=500;X-TITLE=18 Melaleuca Dr:geo:152.1087196,-32.7721839
END:VEVENT
BEGIN:VEVENT
DTSTART;TZID=Australia/Sydney:20210223T094500
DTEND;TZID=Australia/Sydney:20210223T110000
DTSTAMP:20210226T155740
CREATED:20210216T000505Z
LAST-MODIFIED:20210216T000607Z
UID:10965-1614073500-1614078000@yogasphere.com.au
SUMMARY:Vinyasa-Krama 9 Week ONLINE Course
DESCRIPTION:More information and bookings >
URL:https://yogasphere.com.au/class/vinyasa-krama-9-week-online-course/2021-02-23/
LOCATION:Yoga Sphere Studio\, 18 Melaleuca Dr\, One Mile\, NSW\, 2316\, Australia
CATEGORIES:Beginners/General
ORGANIZER;CN="Nikki%20Shilling":MAILTO:nikki@yogasphere.com.au
GEO:-32.7721839;152.1087196
X-APPLE-STRUCTURED-LOCATION;VALUE=URI;X-ADDRESS=Yoga Sphere Studio 18 Melaleuca Dr One Mile NSW 2316 Australia;X-APPLE-RADIUS=500;X-TITLE=18 Melaleuca Dr:geo:152.1087196,-32.7721839
END:VEVENT
BEGIN:VEVENT
DTSTART;TZID=Australia/Sydney:20210223T163000
DTEND;TZID=Australia/Sydney:20210223T174500
DTSTAMP:20210226T155740
CREATED:20210210T042511Z
LAST-MODIFIED:20210215T234650Z
UID:10933-1614097800-1614102300@yogasphere.com.au
SUMMARY:Vinyasa-Krama 9 Week Course
DESCRIPTION:More info and bookings >
URL:https://yogasphere.com.au/class/vinyasa-krama-yoga-9-wk-course-term-1/2021-02-23/
LOCATION:Yoga Sphere Studio\, 18 Melaleuca Dr\, One Mile\, NSW\, 2316\, Australia
CATEGORIES:Beginners/General,Intermediate
ORGANIZER;CN="Nikki%20Shilling":MAILTO:nikki@yogasphere.com.au
GEO:-32.7721839;152.1087196
X-APPLE-STRUCTURED-LOCATION;VALUE=URI;X-ADDRESS=Yoga Sphere Studio 18 Melaleuca Dr One Mile NSW 2316 Australia;X-APPLE-RADIUS=500;X-TITLE=18 Melaleuca Dr:geo:152.1087196,-32.7721839
END:VEVENT
BEGIN:VEVENT
DTSTART;TZID=Australia/Sydney:20210225T090000
DTEND;TZID=Australia/Sydney:20210225T101500
DTSTAMP:20210226T155740
CREATED:20210210T005954Z
LAST-MODIFIED:20210216T080713Z
UID:9945-1614243600-1614248100@yogasphere.com.au
SUMMARY:Vinyasa-Krama Yoga – Casual Class
DESCRIPTION:More info & bookings >
URL:https://yogasphere.com.au/class/vinyasa-krama-yoga-beginners-general-casual/2021-02-25/
LOCATION:Yoga Sphere Studio\, 18 Melaleuca Dr\, One Mile\, NSW\, 2316\, Australia
CATEGORIES:Beginners/General
ORGANIZER;CN="Nikki%20Shilling":MAILTO:nikki@yogasphere.com.au
GEO:-32.7721839;152.1087196
X-APPLE-STRUCTURED-LOCATION;VALUE=URI;X-ADDRESS=Yoga Sphere Studio 18 Melaleuca Dr One Mile NSW 2316 Australia;X-APPLE-RADIUS=500;X-TITLE=18 Melaleuca Dr:geo:152.1087196,-32.7721839
END:VEVENT
BEGIN:VEVENT
DTSTART;TZID=Australia/Sydney:20210225T183000
DTEND;TZID=Australia/Sydney:20210225T194500
DTSTAMP:20210226T155740
CREATED:20210210T042511Z
LAST-MODIFIED:20210215T234650Z
UID:10154-1614277800-1614282300@yogasphere.com.au
SUMMARY:Vinyasa-Krama 9 Week Course
DESCRIPTION:More info and bookings >
URL:https://yogasphere.com.au/class/vinyasa-krama-yoga-9-wk-course-term-1/2021-02-25/
LOCATION:Yoga Sphere Studio\, 18 Melaleuca Dr\, One Mile\, NSW\, 2316\, Australia
CATEGORIES:Beginners/General,Intermediate
ORGANIZER;CN="Nikki%20Shilling":MAILTO:nikki@yogasphere.com.au
GEO:-32.7721839;152.1087196
X-APPLE-STRUCTURED-LOCATION;VALUE=URI;X-ADDRESS=Yoga Sphere Studio 18 Melaleuca Dr One Mile NSW 2316 Australia;X-APPLE-RADIUS=500;X-TITLE=18 Melaleuca Dr:geo:152.1087196,-32.7721839
END:VEVENT
END:VCALENDAR